BEGIN:VCALENDAR
VERSION:2.0
PRODID:-//ChamberMaster//Event Calendar 2.0//EN
METHOD:PUBLISH
X-PUBLISHED-TTL:P3D
REFRESH-INTERVAL:P3D
CALSCALE:GREGORIAN
BEGIN:VEVENT
DTSTART:20190424T230000Z
DTEND:20190425T010000Z
X-MICROSOFT-CDO-ALLDAYEVENT:FALSE
SUMMARY:April Chamber Mixer at Inspirus Credit Union
DESCRIPTION:Join us at Inspirus Credit Union for the Chamber's April Mixer! It will be the perfect place to network and make new contacts in the Business and Chamber Community.\n\n\n\n\n\nChamber Mixers are on the 4th Wednesday of every month from 4pm-6pm.\n\n\n\nInspirus Credit Union is a not-for-profit credit union valued most for their contributions to education. Their mission is to demonstrate a passion for education that transcends everything that they do. By building and sustaining lifelong financial relationships with members who share their passion\, they will make a difference in education.
X-ALT-DESC;FMTTYPE=text/html:Join us at Inspirus Credit Union for the Chamber&#39\;s April Mixer! It will be the perfect place to network and make new contacts in the Business and Chamber Community.<br />\n<br />\n<br />\nChamber Mixers are on the 4th Wednesday of every month from&nbsp\;4pm-6pm.<br />\n<br />\nInspirus Credit Union is&nbsp\;a not-for-profit credit union valued most for their contributions to education. Their mission is to demonstrate&nbsp\;a passion for education that transcends everything that they&nbsp\;do. By building and sustaining lifelong financial relationships with members who share their passion\, they will make a difference in education.
LOCATION:Inspirus Credit Union 5200 Southcenter BLVD Tukwila\, WA 98188
UID:e.2591.2767
SEQUENCE:3
DTSTAMP:20260424T063950Z
URL:http://seattlesouthsidechamber.com/events/details/april-chamber-mixer-at-inspirus-credit-union-2767
END:VEVENT

END:VCALENDAR
