BEGIN:VCALENDAR
VERSION:2.0
PRODID:-//ChamberMaster//Event Calendar 2.0//EN
METHOD:PUBLISH
X-PUBLISHED-TTL:P3D
REFRESH-INTERVAL:P3D
CALSCALE:GREGORIAN
BEGIN:VEVENT
DTSTART:20181224T190000Z
DTEND:20181225T050000Z
X-MICROSOFT-CDO-ALLDAYEVENT:FALSE
SUMMARY:Anthony's Homeport Christmas Eve
DESCRIPTION:The Holidays are Special at Anthony's!\n\nEnjoy Christmas Eve at Anthony's or plan a special holiday gathering in their private and semi-private dining areas for you and your coworkers\, family and friends!
X-ALT-DESC;FMTTYPE=text/html:<h2>The Holidays are Special at Anthony&#39\;s!</h2>\n\n<p new="" times="">Enjoy Christmas Eve at Anthony&#39\;s or plan a special holiday gathering in their private and semi-private dining areas for you and your coworkers\, family and friends!&nbsp\;&nbsp\;</p>\n
LOCATION:Anthony's Homeport/Oyster Bar & Grill 421 South 227th Street Des Moines\, WA 98198
UID:e.2591.2644
SEQUENCE:3
DTSTAMP:20260424T154900Z
URL:http://seattlesouthsidechamber.com/events/details/anthony-s-homeport-christmas-eve-2644
END:VEVENT

END:VCALENDAR
