BEGIN:VCALENDAR
VERSION:2.0
PRODID:-//ChamberMaster//Event Calendar 2.0//EN
METHOD:PUBLISH
X-PUBLISHED-TTL:P3D
REFRESH-INTERVAL:P3D
CALSCALE:GREGORIAN
BEGIN:VEVENT
DTSTART:20190330T153000Z
DTEND:20190330T180000Z
X-MICROSOFT-CDO-ALLDAYEVENT:FALSE
SUMMARY:Annual Judson Park Resident Foundation Pancake Breakfast
DESCRIPTION:The Annual Judson Park Resident Foundation Pancake\n\nBreakfast will be on Saturday\, March 30\, 2019 from 8:30 to 11:00 am.\n\n\n\nMenu to include pancakes\, sausage\, eggs\, juice and Starbucks Coffee. Bring family and friends!\n\n\n\nThe minimum donation for children is $5.00 and anyone 10 and older $9.00.\n\n\n\nAll proceeds benefit the Benevolence Fund of Judson Park Resident Foundation.\n\n\n\nNo reservations needed.
X-ALT-DESC;FMTTYPE=text/html:The Annual Judson Park Resident Foundation Pancake<br />\nBreakfast will be on Saturday\, March 30\, 2019 from 8:30 to 11:00 am.<br />\n<br />\nMenu to include pancakes\, sausage\, eggs\, juice and Starbucks Coffee. Bring family and friends!<br />\n<br />\nThe minimum donation for children is $5.00 and anyone 10 and older $9.00.<br />\n<br />\nAll proceeds benefit the Benevolence Fund of Judson Park Resident Foundation.<br />\n<br />\nNo reservations needed.
LOCATION:23600 Marine View Drive South Des Moines\, WA.
UID:e.2591.2890
SEQUENCE:3
DTSTAMP:20260424T110505Z
URL:http://seattlesouthsidechamber.com/events/details/annual-judson-park-resident-foundation-pancake-breakfast-2890
END:VEVENT

END:VCALENDAR
