BEGIN:VCALENDAR
VERSION:2.0
PRODID:-//ChamberMaster//Event Calendar 2.0//EN
METHOD:PUBLISH
X-PUBLISHED-TTL:P3D
REFRESH-INTERVAL:P3D
CALSCALE:GREGORIAN
BEGIN:VEVENT
DTSTART:20190509T150000Z
DTEND:20190509T160000Z
X-MICROSOFT-CDO-ALLDAYEVENT:FALSE
SUMMARY:Ambassador Committee Meeting
DESCRIPTION:The Ambassador Committee is a group of Chamber Member Volunteers who are liaisons of our Chamber. Ambassadors deliver welcome bags to new businesses.  Their presence at Chamber events provides a professional and hospitable atmosphere for everyone.\n\n\n\nThis Committee offers each Ambassador a gateway into learning more about the business community and places the Ambassadors in the limelight of the Chamber as they are often the first people to engage a business.\n\n\n\nThe Ambassador Committee meets monthly on the 2nd Thursday of the Month at 8 am.\n\n\n\nIf you are interested in attending a meeting or becoming a part of the Ambassador Committee contact the Chamber Office.
X-ALT-DESC;FMTTYPE=text/html:The Ambassador Committee is a group of Chamber Member Volunteers who are liaisons of our Chamber. Ambassadors deliver welcome bags to new businesses.&nbsp\; Their presence at Chamber events provides a professional and hospitable atmosphere for everyone.<br />\n<br />\nThis Committee offers each Ambassador a gateway into learning more about the business community and places the Ambassadors in the limelight of the Chamber as they are often the first people to engage a business.<br />\n<br />\nThe Ambassador Committee meets monthly on the 2nd Thursday of the Month at 8 am.<br />\n<br />\nIf you are interested in attending a meeting or becoming a part of the Ambassador Committee contact the Chamber Office.
LOCATION:The Chamber Office 14220 Interurban Ave S #134 Tukwila\, WA 98168
UID:e.2591.2687
SEQUENCE:3
DTSTAMP:20260424T045725Z
URL:http://seattlesouthsidechamber.com/events/details/ambassador-meeting-05-09-2019-2687
END:VEVENT

END:VCALENDAR
