BEGIN:VCALENDAR
VERSION:2.0
PRODID:-//ChamberMaster//Event Calendar 2.0//EN
METHOD:PUBLISH
X-PUBLISHED-TTL:P3D
REFRESH-INTERVAL:P3D
CALSCALE:GREGORIAN
BEGIN:VEVENT
DTSTART:20180628T223000Z
DTEND:20180629T013000Z
X-MICROSOFT-CDO-ALLDAYEVENT:FALSE
SUMMARY:Alzheimer's Association Washington State Chapter Tukwila Open House & Grand Opening Celebration
DESCRIPTION:Open House from 3:30 - 6:30 p.m. Ribbon Cutting Ceremony at 4:45 p.m.
X-ALT-DESC;FMTTYPE=text/html:Open House from 3:30 - 6:30 p.m. Ribbon Cutting Ceremony at 4:45 p.m.
LOCATION:635 Andover Park W\, Ste 202 Tukwila\, WA 98188
UID:e.2591.2130
SEQUENCE:3
DTSTAMP:20260425T012725Z
URL:http://seattlesouthsidechamber.com/events/details/alzheimer-s-association-washington-state-chapter-tukwila-open-house-grand-opening-celebration-2130
END:VEVENT

END:VCALENDAR
