BEGIN:VCALENDAR
VERSION:2.0
PRODID:-//ChamberMaster//Event Calendar 2.0//EN
METHOD:PUBLISH
X-PUBLISHED-TTL:P3D
REFRESH-INTERVAL:P3D
CALSCALE:GREGORIAN
BEGIN:VEVENT
DTSTART:20180608T230000Z
DTEND:20180609T020000Z
X-MICROSOFT-CDO-ALLDAYEVENT:FALSE
SUMMARY:Aloft Seattle Sea-Tac Airport Grand Opening Celebration
DESCRIPTION:Come enjoy delicious Signature Cocktails\, Hors D'oeuvres\, and Live Music on June 8th as we celebrate the Grand Opening for Aloft Seattle Sea-Tac Airport.
X-ALT-DESC;FMTTYPE=text/html:Come enjoy delicious Signature Cocktails\, Hors D&#39\;oeuvres\, and Live Music on June 8th as we celebrate the Grand Opening for Aloft Seattle Sea-Tac Airport.
LOCATION:19030 28th AVE S SeaTac\, WA 98188
UID:e.2591.2116
SEQUENCE:3
DTSTAMP:20260425T012750Z
URL:http://seattlesouthsidechamber.com/events/details/aloft-seattle-sea-tac-airport-grand-opening-celebration-2116
END:VEVENT

END:VCALENDAR
