BEGIN:VCALENDAR
VERSION:2.0
PRODID:-//ChamberMaster//Event Calendar 2.0//EN
METHOD:PUBLISH
X-PUBLISHED-TTL:P3D
REFRESH-INTERVAL:P3D
CALSCALE:GREGORIAN
BEGIN:VEVENT
DTSTART:20190207T193000Z
DTEND:20190207T210000Z
X-MICROSOFT-CDO-ALLDAYEVENT:FALSE
SUMMARY:All Things HR - “Hot HR Topics for 2019” Roundtable Discussion
DESCRIPTION:The topic for this Roundtable is "Hot HR Topics for 2019" \n\nOUR ROUNDTABLE PURPOSE:\n\n	Provide a platform to share knowledge and insight over lunch with other HR professionals.\n	Facilitate a discussion of innovative ideas and best practices.\n	Foster connections within your industry and community.\n\n\n\nROUNDTABLE DETAILS:\n\nEvery quarter we bring a new topic to our three locations around the Puget Sound. Each location will have a Roundtable once a quarter\, with one Rountable happening every month. There is a small fee to attend our Roundtables to cover the cost of the provided lunch.\n\n\n\nSeattle Southside Chamber Members may attend the Roundtable for free\, however lunch will be provided. To register and waive the lunch\, please contact All Things HR.
X-ALT-DESC;FMTTYPE=text/html:The topic for this Roundtable is &ldquo\;Hot HR Topics for 2019&rdquo\;&nbsp\;<br />\nOUR ROUNDTABLE PURPOSE:\n<ul>\n	<li>Provide a platform to share knowledge and insight over lunch with other HR professionals.</li>\n	<li>Facilitate a discussion of innovative ideas and best practices.</li>\n	<li>Foster connections within your industry and community.</li>\n</ul>\n<br />\nROUNDTABLE DETAILS:<br />\nEvery quarter we bring a new topic to our three locations around the Puget Sound. Each location will have a Roundtable once a quarter\, with one Rountable happening every month. There is a small fee to attend our Roundtables to cover the cost of the provided lunch.<br />\n<br />\nSeattle Southside Chamber Members may attend the Roundtable for free\, however lunch will be provided. To register and waive the lunch\, please contact All Things HR.
LOCATION:Seattle Southside Chamber of Commerce 14220 Interurban Ave S #134\, Tukwila\, WA 98168
UID:e.2591.2805
SEQUENCE:3
DTSTAMP:20260424T140718Z
URL:http://seattlesouthsidechamber.com/events/details/all-things-hr-hot-hr-topics-for-2019-roundtable-discussion-2805
END:VEVENT

END:VCALENDAR
