BEGIN:VCALENDAR
VERSION:2.0
PRODID:-//ChamberMaster//Event Calendar 2.0//EN
METHOD:PUBLISH
X-PUBLISHED-TTL:P3D
REFRESH-INTERVAL:P3D
CALSCALE:GREGORIAN
BEGIN:VEVENT
DTSTART:20180208T203000Z
DTEND:20180208T220000Z
X-MICROSOFT-CDO-ALLDAYEVENT:FALSE
SUMMARY:All Things HR Benefits and Wellness Roundtable
DESCRIPTION:HR ROUNDTABLE For those attending in person this is a brown bag meeting or your can order a box lunch through us for $15.00 when registering. OUR ROUNDTABLE PURPOSE Provide a platform to share knowledge and insight at no cost to you Facilitate a discussion of innovative ideas and best practices Assist you with your recruiting challenges (common or otherwise) Foster connections within your industry and community February's Topic is Benefits and Wellness ROUNDTABLE DETAILS Make sure you register to reserve your seat. Want to bring a friend? Absolutely\, go ahead just make sure they register too. There is no fee to attend\, again\, just make sure you register. Each session's topic will be different and decided by the attendees of the previous meeting.
X-ALT-DESC;FMTTYPE=text/html:HR ROUNDTABLE For those attending in person this is a brown bag meeting or your can order a box lunch through us for $15.00 when registering. OUR ROUNDTABLE PURPOSE Provide a platform to share knowledge and insight at no cost to you Facilitate a discussion of innovative ideas and best practices Assist you with your recruiting challenges (common or otherwise) Foster connections within your industry and community February&rsquo\;s Topic is Benefits and Wellness ROUNDTABLE DETAILS Make sure you register to reserve your seat. Want to bring a friend? Absolutely\, go ahead just make sure they register too. There is no fee to attend\, again\, just make sure you register. Each session&rsquo\;s topic will be different and decided by the attendees of the previous meeting.
LOCATION:Seattle Southside Chamber of Commerce
UID:e.2591.1065
SEQUENCE:3
DTSTAMP:20260425T103754Z
URL:http://seattlesouthsidechamber.com/events/details/all-things-hr-benefits-and-wellness-roundtable-1065
END:VEVENT

END:VCALENDAR
