BEGIN:VCALENDAR
VERSION:2.0
PRODID:-//ChamberMaster//Event Calendar 2.0//EN
METHOD:PUBLISH
X-PUBLISHED-TTL:P3D
REFRESH-INTERVAL:P3D
CALSCALE:GREGORIAN
BEGIN:VEVENT
DTSTART:20200228T000000Z
DTEND:20200228T013000Z
X-MICROSOFT-CDO-ALLDAYEVENT:FALSE
SUMMARY:Aesthetic Specialists Ribbon Cutting
DESCRIPTION:Join the Chamber in welcoming our newest member of the Seattle Southside Community: Aesthetic Specialists! Come view the beautiful new space\, sign the guest board and enjoy light refreshments. The first 50 guests will receive a special spa gift bag.\n\n\n\nTo celebrate their Grand Opening\, Aesthetic Specialists is offering the Founder's Club Membership to new and existing clients who wish to join. For $25/month\, you will have the advantage of saving up to 40% off services and a complimentary express hydrafacial or a 60 minute lash fill on your birthday month.
X-ALT-DESC;FMTTYPE=text/html:Join the Chamber in welcoming our newest member of the Seattle Southside Community: Aesthetic Specialists! Come view the beautiful new space\, sign the guest board and enjoy light refreshments. The first 50 guests will receive a special spa gift bag.<br />\n<br />\nTo celebrate their Grand Opening\, Aesthetic Specialists is offering the Founder&#39\;s Club Membership to new and existing clients who wish to join. For $25/month\, you will have the advantage of saving up to 40% off services and a complimentary express hydrafacial or a 60 minute lash fill on your birthday month.&nbsp\;
LOCATION:Aesthetic Specialists 22207 7th Ave South Suite A Des Moines\, WA 98198
UID:e.2591.3828
SEQUENCE:3
DTSTAMP:20260423T152347Z
URL:http://seattlesouthsidechamber.com/events/details/aesthetic-specialists-ribbon-cutting-3828
END:VEVENT

END:VCALENDAR
