BEGIN:VCALENDAR
VERSION:2.0
PRODID:-//ChamberMaster//Event Calendar 2.0//EN
METHOD:PUBLISH
X-PUBLISHED-TTL:P3D
REFRESH-INTERVAL:P3D
CALSCALE:GREGORIAN
BEGIN:VEVENT
DTSTART:20190228T233000Z
DTEND:20190301T013000Z
X-MICROSOFT-CDO-ALLDAYEVENT:FALSE
SUMMARY:ACES Northwest Network: Future of Freight Mobility in Kent Valley
DESCRIPTION:Please join the ACES Northwest Network for a technology seminar and networking event on the topic of enhancing freight mobility in the Kent Valley and across Washington state through adoption of electric and autonomous vehicle technologies.
X-ALT-DESC;FMTTYPE=text/html:<h3>Please join the ACES Northwest Network for a technology seminar and networking event on the topic of enhancing freight mobility in the Kent Valley and across Washington state through adoption of electric and autonomous vehicle technologies.</h3>\n
LOCATION:Centerpoint Conference Center 20809 72nd Ave S\, Kent\, WA 98032
UID:e.2591.2830
SEQUENCE:3
DTSTAMP:20260424T123219Z
URL:http://seattlesouthsidechamber.com/events/details/aces-northwest-network-future-of-freight-mobility-in-kent-valley-2830
END:VEVENT

END:VCALENDAR
