BEGIN:VCALENDAR
VERSION:2.0
PRODID:-//ChamberMaster//Event Calendar 2.0//EN
METHOD:PUBLISH
X-PUBLISHED-TTL:P3D
REFRESH-INTERVAL:P3D
CALSCALE:GREGORIAN
BEGIN:VEVENT
DTSTART;VALUE=DATE:20190326
DTEND;VALUE=DATE:20190329
TRANSP:TRANSPARENT
X-MICROSOFT-CDO-ALLDAYEVENT:TRUE
SUMMARY:70th Annual Vehicle Maintenance Management Conference
DESCRIPTION:The Vehicle Maintenance Management Conference celebrates 70 years of bringing industry leaders together to exchange knowledge and experience making this conference a must attend event once again.\n\n\n\nTOMORROWS TECHNOLOGY TODAY is this years theme with opportunities to Learn what's new\, see what's on the horizon\, be part of hands-on sessions\, welding classes\, WABO Certification and over 60 management and technical training sessions.
X-ALT-DESC;FMTTYPE=text/html:The Vehicle Maintenance Management Conference celebrates 70 years of bringing industry leaders together to exchange knowledge and experience making this conference a must attend event once again.<br />\n<br />\nTOMORROWS TECHNOLOGY TODAY is this years theme with opportunities to Learn what&rsquo\;s new\, see what&rsquo\;s on the horizon\, be part of hands-on sessions\, welding classes\, WABO Certification and over 60 management and technical training sessions.&nbsp\;
LOCATION:South Seattle College 6000 16th Ave SW\, Seattle\, WA 98106
UID:e.2591.2605
SEQUENCE:3
DTSTAMP:20260424T105908Z
URL:http://seattlesouthsidechamber.com/events/details/70th-annual-vehicle-maintenance-management-conference-2605
END:VEVENT

END:VCALENDAR
