BEGIN:VCALENDAR
VERSION:2.0
PRODID:-//ChamberMaster//Event Calendar 2.0//EN
METHOD:PUBLISH
X-PUBLISHED-TTL:P3D
REFRESH-INTERVAL:P3D
CALSCALE:GREGORIAN
BEGIN:VEVENT
DTSTART:20181206T153000Z
DTEND:20181206T173000Z
X-MICROSOFT-CDO-ALLDAYEVENT:FALSE
SUMMARY:5th Annual Soundside Alliance Outlook Breakfast
DESCRIPTION:The Soundside Alliance is hosting its 5th Annual Outlook Breakfast as an opportunity for you to learn more about the trends impacting this fast-growing community. Join business and community leaders shaping the Soundside into a premier location as they share their insights on the region's economic outlook.
X-ALT-DESC;FMTTYPE=text/html:<span style="color: rgb(111\, 114\, 135)\; font-family: &quot\;Neue Plak&quot\;\, -apple-system\, BlinkMacSystemFont\, Roboto\, &quot\;Helvetica Neue&quot\;\, Helvetica\, Tahoma\, Arial\, sans-serif\; font-size: 15px\; letter-spacing: 0.5px\;">The Soundside Alliance is hosting its 5th Annual Outlook Breakfast as an opportunity for you to learn more about the trends impacting this fast-growing community. Join business and community leaders shaping the Soundside into a premier location as they share their insights on the region&#39\;s economic outlook.</span>
LOCATION:Four Points by Sheraton Seattle Airport South Olympic Ballroom - 3rd Floor 22406 Pacific Highway South Des Moines\, WA 98198
UID:e.2591.2622
SEQUENCE:3
DTSTAMP:20260424T154853Z
URL:http://seattlesouthsidechamber.com/events/details/5th-annual-soundside-alliance-outlook-breakfast-2622
END:VEVENT

END:VCALENDAR
