BEGIN:VCALENDAR
VERSION:2.0
PRODID:-//ChamberMaster//Event Calendar 2.0//EN
METHOD:PUBLISH
X-PUBLISHED-TTL:P3D
REFRESH-INTERVAL:P3D
CALSCALE:GREGORIAN
BEGIN:VEVENT
DTSTART:20180818T190000Z
DTEND:20180818T190000Z
X-MICROSOFT-CDO-ALLDAYEVENT:FALSE
SUMMARY:25th Annual Tukwila Community Garage Sale
DESCRIPTION:The 25th Tukwila Community Garage Sale will take place on Saturday\, August 18\, 2018! Look for the bright yellow garage sale signs\, shop for bargains and meet your neighbors while you support reuse and recycling!\n\nPlease see website for participating locations and map.
X-ALT-DESC;FMTTYPE=text/html:<span style="font-size:11px\;"><span style="color: rgb(9\, 41\, 48)\; font-family: &quot\;Open Sans&quot\;\, sans-serif\;">The 25th Tukwila Community Garage Sale will take place on Saturday\, August 18\, 2018! Look for the bright yellow garage sale signs\, shop for bargains and meet your neighbors while you support reuse and recycling!</span><br />\nPlease see website for participating locations and map.</span>
LOCATION:
UID:e.2591.2309
SEQUENCE:3
DTSTAMP:20260424T222726Z
URL:http://seattlesouthsidechamber.com/events/details/25th-annual-tukwila-community-garage-sale-2309
END:VEVENT

END:VCALENDAR
