BEGIN:VCALENDAR
VERSION:2.0
PRODID:-//ChamberMaster//Event Calendar 2.0//EN
METHOD:PUBLISH
X-PUBLISHED-TTL:P3D
REFRESH-INTERVAL:P3D
CALSCALE:GREGORIAN
BEGIN:VEVENT
DTSTART:20260710T160000Z
DTEND:20260710T210000Z
X-MICROSOFT-CDO-ALLDAYEVENT:FALSE
SUMMARY:2026 Southside Leadership Conference
DESCRIPTION:Leadership Conference\n\nJoin us for an inspiring and high-impact Leadership Conference designed to empower professionals\, entrepreneurs\, and emerging leaders with the tools\, insights\, and connections needed to thrive in today's dynamic business environment.\n\nThis conference brings together influential speakers\, industry experts\, and community leaders for a day of learning\, collaboration\, and growth. Attendees will have the opportunity to:\n\n\n	\n	Gain actionable leadership strategies from keynote presentations and interactive workshops\n	\n	\n	Explore best practices in team management\, communication\, innovation\, and organizational culture\n	\n	\n	Engage in meaningful discussions about current challenges and future opportunities in leadership\n	\n	\n	Network with peers and mentors from across industries\n	\n	\n	Discover resources and support available through the Chamber and community partners\n	\n\n\nWhether you're an established leader or just beginning your leadership journey\, this conference offers valuable insights and inspiration to help you lead with confidence\, purpose\, and impact.\n\nJoin us for a transformative experience that supports and strengthens the leaders shaping our region's future.
X-ALT-DESC;FMTTYPE=text/html:<p data-end="358" data-start="93"><strong data-end="118" data-start="93">Leadership Conference</strong><br data-end="121" data-start="118" />\nJoin us for an inspiring and high-impact <strong data-end="187" data-start="162">Leadership Conference</strong> designed to empower professionals\, entrepreneurs\, and emerging leaders with the tools\, insights\, and connections needed to thrive in today&rsquo\;s dynamic business environment.</p>\n\n<p data-end="545" data-start="360">This conference brings together influential speakers\, industry experts\, and community leaders for a day of learning\, collaboration\, and growth. Attendees will have the opportunity to:</p>\n\n<ul data-end="1008" data-start="546">\n	<li data-end="644" data-start="546">\n	<p data-end="644" data-start="548"><strong data-end="589" data-start="548">Gain actionable leadership strategies</strong> from keynote presentations and interactive workshops</p>\n	</li>\n	<li data-end="749" data-start="645">\n	<p data-end="749" data-start="647"><strong data-end="673" data-start="647">Explore best practices</strong> in team management\, communication\, innovation\, and organizational culture</p>\n	</li>\n	<li data-end="854" data-start="750">\n	<p data-end="854" data-start="752"><strong data-end="788" data-start="752">Engage in meaningful discussions</strong> about current challenges and future opportunities in leadership</p>\n	</li>\n	<li data-end="916" data-start="855">\n	<p data-end="916" data-start="857"><strong data-end="891" data-start="857">Network with peers and mentors</strong> from across industries</p>\n	</li>\n	<li data-end="1008" data-start="917">\n	<p data-end="1008" data-start="919"><strong data-end="953" data-start="919">Discover resources and support</strong> available through the Chamber and community partners</p>\n	</li>\n</ul>\n\n<p data-end="1201" data-start="1010">Whether you&#39\;re an established leader or just beginning your leadership journey\, this conference offers valuable insights and inspiration to help you lead with confidence\, purpose\, and impact.</p>\n\n<p data-end="1313" data-start="1203">Join us for a transformative experience that supports and strengthens the leaders shaping our region&rsquo\;s future.</p>\n
LOCATION:Highline College\, Des Moines
UID:e.2591.7711
SEQUENCE:3
DTSTAMP:20260420T104936Z
URL:http://seattlesouthsidechamber.com/events/details/2026-southside-leadership-conference-7711
END:VEVENT

END:VCALENDAR
