BEGIN:VCALENDAR
VERSION:2.0
PRODID:-//ChamberMaster//Event Calendar 2.0//EN
METHOD:PUBLISH
X-PUBLISHED-TTL:P3D
REFRESH-INTERVAL:P3D
CALSCALE:GREGORIAN
BEGIN:VEVENT
DTSTART:20200228T150000Z
DTEND:20200228T190000Z
X-MICROSOFT-CDO-ALLDAYEVENT:FALSE
SUMMARY:2020 PNW Economic Equity Summit
DESCRIPTION:**UPDATE - EVENT HAS BEEN RESCHEDULED TO February 28\, 2020**\n\n\n\nThis collaborative event is being produced in partnership with the Seattle Southside Chamber and the Renton Chamber to gather regional business leaders\, policymakers\, and the community together to find real solutions to the challenges our community faces specifically the economic inequity prevalent in the Pacific Northwest.\n\n\n\nIndustry leaders and subject matter experts will to gather to hear proposals from our community on solutions to creating more economic equity in our region. Those proposals will be judged and then revealed to the public the morning and early afternoon of February 28th at the first-ever Economic Equity Summit. This will be an interactive and purposefully collaborative and curated event to ensure equity is encouraged and promoted throughout.\n\n \nCLICK HERE TO REGISTER\n\nPlease select the Non-Member registration.\n\nUse Promo Code SOUTHSIDE and click "Apply"\n\n\n\n\n\nAgenda:\n\n7:00 - Check-in & Networking Breakfast Buffet\n\n8:00 - Welcome and Introduction\n\n8:05 - Discussion and Pitch Program \n\n9:40 - Intermission\n\n10:35 - Judges Deliberate\n\n10:40 - Closing Speech & Winner Ceremony\n\n11:00 - Networking to end
X-ALT-DESC;FMTTYPE=text/html:<span style="font-family:arial\,sans-serif\;"><u><strong>**UPDATE - EVENT HAS BEEN RESCHEDULED TO February 28\, 2020**</strong></u><br />\n<br />\nThis collaborative event is being produced in partnership with the <strong>Seattle Southside Chamber</strong> and the <strong>Renton Chamber</strong> to gather regional business leaders\, policymakers\, and the community together to <strong>find</strong> <strong>real solutions to the challenges our community faces<em>&mdash\;specifically the economic inequity prevalent in the Pacific Northwest.</em></strong></span><br />\n<br />\n<span style="font-family:arial\,sans-serif\;">Industry leaders and subject matter experts will to gather to hear proposals from our community on solutions to creating more economic equity in our region. Those proposals will be judged and then revealed to the public the morning and early afternoon of February 28<sup>th</sup> at the first-ever <strong>Economic Equity Summit</strong>. This will be an interactive and purposefully collaborative and curated event to ensure equity is encouraged and promoted throughout.</span><br />\n&nbsp\;\n<div style="text-align: center\;"><span style="font-size:20px\;"><font color="#0000ff" face="arial\, sans-serif"><b><a href="https://www.gorenton.com/chamber-of-commerce/events/event-details/_chamber_of_commerce_event_details/2020-economic-equity-summit">CLICK HERE TO REGISTER</a></b></font></span><br />\nPlease select the Non-Member registration.<br />\nUse Promo Code <strong><u>SOUTHSIDE</u></strong> and click &quot\;Apply&quot\;</div>\n\n<div><br />\n<br />\n<u><strong>Agenda:</strong></u><br />\n7:00 - Check-in &amp\; Networking Breakfast Buffet<br />\n8:00 - Welcome and Introduction<br />\n8:05 - Discussion and Pitch Program&nbsp\;<br />\n9:40 - Intermission<br />\n10:35 - Judges Deliberate<br />\n10:40 - Closing Speech &amp\; Winner Ceremony<br />\n11:00 - Networking to end</div>\n
LOCATION:Hyatt Regency Lake Washington At Seattle's Southport 1053 Lake Washington Blvd N Renton\, WA 98056
UID:e.2591.3185
SEQUENCE:3
DTSTAMP:20260423T132724Z
URL:http://seattlesouthsidechamber.com/events/details/2020-pnw-economic-equity-summit-3185
END:VEVENT

END:VCALENDAR
